BEGIN:VCALENDAR
VERSION:2.0
PRODID:-//SIIA - ECPv5.5.0.1//NONSGML v1.0//EN
CALSCALE:GREGORIAN
METHOD:PUBLISH
X-WR-CALNAME:SIIA
X-ORIGINAL-URL:https://www.siia.net
X-WR-CALDESC:Events for SIIA
BEGIN:VTIMEZONE
TZID:America/New_York
BEGIN:DAYLIGHT
TZOFFSETFROM:-0500
TZOFFSETTO:-0400
TZNAME:EDT
DTSTART:20210314T070000
END:DAYLIGHT
BEGIN:STANDARD
TZOFFSETFROM:-0400
TZOFFSETTO:-0500
TZNAME:EST
DTSTART:20211107T060000
END:STANDARD
END:VTIMEZONE
BEGIN:VEVENT
DTSTART;TZID=America/New_York:20210617T100000
DTEND;TZID=America/New_York:20210617T110000
DTSTAMP:20210420T180618
CREATED:20210414T122416Z
LAST-MODIFIED:20210416T143533Z
UID:97899-1623924000-1623927600@www.siia.net
SUMMARY:Looking Back at a Unicorn: The Market Data Industry in a Pandemic Year
DESCRIPTION:June 17 @ 10:00am - 11:00am US Eastern Time 		\n				\n				\n				\n					Who won and who lost in the market data industry last year?  This presentation and responsive panel will explore market data financial performance in 2020\, how the industry performed in the onset of the pandemic\, the evolving market data usage paradigm and what’s in store in 2021 and beyond.  Learn about the results of Burton-Taylor’s research and what industry participants and customers really think. Members: FREE | Non-Members: $200 \n				\n				\n				\n				\n			    \n                    \n                \n                                \nREGISTRATION COMING SOON                \n            \n            \n    \n\n    		\n				\n				\n				\n			\n            AGENDA10:00-10:05 a.m.  FISD Update Tracey Shumpert\, Vice President\, Membership and Programs\, FISD 10:05-10:30 a.m.  Presentation Robert Iati\, Managing Director\, Burton-Taylor International Consulting 10:30 a.m.-11:00 a.m.  Panel                               Moderator: Robert Iati\, Managing Director\, Burton-Taylor International Consulting Panelist: Barbara Dunbar\, Senior Manager\, Market Data\, Macquarie Group \n        		\n				\n				\n				\n			\n            SPEAKERS\n        		\n				\n				\n				\n					\n					\n		\n			\n		\n		\n\n							\n			\n\n\n	\n\n				\n		\n\n				\n						\n					\n				\n										Apr12								\n			\n		\n		\n			\n			\n\n					\n\n		\n						\n				Tracey Shumpert			\n\n				\n		\n		\n			Vice President\, FISD Membership & Programs\, SIIA \n		\n\n					\n					\n														\n\n									\n								\n													\n						Bio →\n					\n				\n						\n			\n		\n		\n\n	\n\n\n\n\n\n	\n\n				\n		\n\n				\n						\n					\n				\n										Apr14								\n			\n		\n		\n			\n			\n\n					\n\n		\n						\n				Robert Iati			\n\n				\n		\n		\n			Managing Director\, Burton-Taylor International Consulting \n		\n\n					\n					\n														\n\n									\n								\n													\n						Bio →\n					\n				\n						\n			\n		\n		\n\n	\n\n\n\n\n\n	\n\n				\n		\n\n				\n						\n					\n				\n										Apr14								\n			\n		\n		\n			\n			\n\n					\n\n		\n						\n				Barbara Dunbar			\n\n				\n		\n		\n			Senior Manager\, Market Data\, Macquarie Group \n		\n\n					\n					\n														\n\n									\n								\n													\n						Bio →\n					\n				\n						\n			\n		\n		\n\n	\n\n\n				\n						\n		\n\n						\n		\n					\n				\n				\n						\n					\n		\n				\n			\n							\n						\n				\n			Global Sponsors		\n				\n				\n				\n					\n											\n															\n											\n				\n				\n				\n				\n					\n											\n															\n											\n				\n				\n				\n				\n					\n											\n															\n											\n				\n				\n				\n				\n					\n											\n															\n											\n				\n				\n				\n				\n			Sponsors & Partners
URL:https://www.siia.net/event/looking-back-at-a-unicorn-the-market-data-industry-in-a-pandemic-year/
CATEGORIES:FISD
END:VEVENT
BEGIN:VEVENT
DTSTART;VALUE=DATE:20210616
DTEND;VALUE=DATE:20210618
DTSTAMP:20210420T180618
CREATED:20210324T162746Z
LAST-MODIFIED:20210419T155829Z
UID:95244-1623801600-1623974399@www.siia.net
SUMMARY:Reset\, Reinvent\, Revenue 2021 (formerly AM&P Annual Meeting)
DESCRIPTION:June 17 @ 10:00am - 11:00am US Eastern Time 		\n				\n				\n				\n					Who won and who lost in the market data industry last year?  This presentation and responsive panel will explore market data financial performance in 2020\, how the industry performed in the onset of the pandemic\, the evolving market data usage paradigm and what’s in store in 2021 and beyond.  Learn about the results of Burton-Taylor’s research and what industry participants and customers really think. Members: FREE | Non-Members: $200 \n				\n				\n				\n				\n			    \n                    \n                \n                                \nREGISTRATION COMING SOON                \n            \n            \n    \n\n    		\n				\n				\n				\n			\n            AGENDA10:00-10:05 a.m.  FISD Update Tracey Shumpert\, Vice President\, Membership and Programs\, FISD 10:05-10:30 a.m.  Presentation Robert Iati\, Managing Director\, Burton-Taylor International Consulting 10:30 a.m.-11:00 a.m.  Panel                               Moderator: Robert Iati\, Managing Director\, Burton-Taylor International Consulting Panelist: Barbara Dunbar\, Senior Manager\, Market Data\, Macquarie Group \n        		\n				\n				\n				\n			\n            SPEAKERS\n        		\n				\n				\n				\n					\n					\n		\n			\n		\n		\n\n							\n			\n\n\n	\n\n				\n		\n\n				\n						\n					\n				\n										Apr12								\n			\n		\n		\n			\n			\n\n					\n\n		\n						\n				Tracey Shumpert			\n\n				\n		\n		\n			Vice President\, FISD Membership & Programs\, SIIA \n		\n\n					\n					\n														\n\n									\n								\n													\n						Bio →\n					\n				\n						\n			\n		\n		\n\n	\n\n\n\n\n\n	\n\n				\n		\n\n				\n						\n					\n				\n										Apr14								\n			\n		\n		\n			\n			\n\n					\n\n		\n						\n				Robert Iati			\n\n				\n		\n		\n			Managing Director\, Burton-Taylor International Consulting \n		\n\n					\n					\n														\n\n									\n								\n													\n						Bio →\n					\n				\n						\n			\n		\n		\n\n	\n\n\n\n\n\n	\n\n				\n		\n\n				\n						\n					\n				\n										Apr14								\n			\n		\n		\n			\n			\n\n					\n\n		\n						\n				Barbara Dunbar			\n\n				\n		\n		\n			Senior Manager\, Market Data\, Macquarie Group \n		\n\n					\n					\n														\n\n									\n								\n													\n						Bio →\n					\n				\n						\n			\n		\n		\n\n	\n\n\n				\n						\n		\n\n						\n		\n					\n				\n				\n						\n					\n		\n				\n			\n							\n						\n				\n			Global Sponsors		\n				\n				\n				\n					\n											\n															\n											\n				\n				\n				\n				\n					\n											\n															\n											\n				\n				\n				\n				\n					\n											\n															\n											\n				\n				\n				\n				\n					\n											\n															\n											\n				\n				\n				\n				\n			Sponsors & Partners
URL:https://www.siia.net/association-council-conference-2021-reset-reinvent-revenue/#new_tab
CATEGORIES:AM&P network
END:VEVENT
BEGIN:VEVENT
DTSTART;TZID=America/New_York:20210512T040000
DTEND;TZID=America/New_York:20210512T050000
DTSTAMP:20210420T180618
CREATED:20210401T155452Z
LAST-MODIFIED:20210414T184521Z
UID:96547-1620792000-1620795600@www.siia.net
SUMMARY:Real-time Cloud Data from your Favourite Exchange and/or Data Vendor: No Programming Required
DESCRIPTION:June 17 @ 10:00am - 11:00am US Eastern Time 		\n				\n				\n				\n					Who won and who lost in the market data industry last year?  This presentation and responsive panel will explore market data financial performance in 2020\, how the industry performed in the onset of the pandemic\, the evolving market data usage paradigm and what’s in store in 2021 and beyond.  Learn about the results of Burton-Taylor’s research and what industry participants and customers really think. Members: FREE | Non-Members: $200 \n				\n				\n				\n				\n			    \n                    \n                \n                                \nREGISTRATION COMING SOON                \n            \n            \n    \n\n    		\n				\n				\n				\n			\n            AGENDA10:00-10:05 a.m.  FISD Update Tracey Shumpert\, Vice President\, Membership and Programs\, FISD 10:05-10:30 a.m.  Presentation Robert Iati\, Managing Director\, Burton-Taylor International Consulting 10:30 a.m.-11:00 a.m.  Panel                               Moderator: Robert Iati\, Managing Director\, Burton-Taylor International Consulting Panelist: Barbara Dunbar\, Senior Manager\, Market Data\, Macquarie Group \n        		\n				\n				\n				\n			\n            SPEAKERS\n        		\n				\n				\n				\n					\n					\n		\n			\n		\n		\n\n							\n			\n\n\n	\n\n				\n		\n\n				\n						\n					\n				\n										Apr12								\n			\n		\n		\n			\n			\n\n					\n\n		\n						\n				Tracey Shumpert			\n\n				\n		\n		\n			Vice President\, FISD Membership & Programs\, SIIA \n		\n\n					\n					\n														\n\n									\n								\n													\n						Bio →\n					\n				\n						\n			\n		\n		\n\n	\n\n\n\n\n\n	\n\n				\n		\n\n				\n						\n					\n				\n										Apr14								\n			\n		\n		\n			\n			\n\n					\n\n		\n						\n				Robert Iati			\n\n				\n		\n		\n			Managing Director\, Burton-Taylor International Consulting \n		\n\n					\n					\n														\n\n									\n								\n													\n						Bio →\n					\n				\n						\n			\n		\n		\n\n	\n\n\n\n\n\n	\n\n				\n		\n\n				\n						\n					\n				\n										Apr14								\n			\n		\n		\n			\n			\n\n					\n\n		\n						\n				Barbara Dunbar			\n\n				\n		\n		\n			Senior Manager\, Market Data\, Macquarie Group \n		\n\n					\n					\n														\n\n									\n								\n													\n						Bio →\n					\n				\n						\n			\n		\n		\n\n	\n\n\n				\n						\n		\n\n						\n		\n					\n				\n				\n						\n					\n		\n				\n			\n							\n						\n				\n			Global Sponsors		\n				\n				\n				\n					\n											\n															\n											\n				\n				\n				\n				\n					\n											\n															\n											\n				\n				\n				\n				\n					\n											\n															\n											\n				\n				\n				\n				\n					\n											\n															\n											\n				\n				\n				\n				\n			Sponsors & Partners
URL:https://www.siia.net/event/fisd-real-time-data-in-the-cloud/
CATEGORIES:FISD
END:VEVENT
BEGIN:VEVENT
DTSTART;TZID=America/New_York:20210504T110000
DTEND;TZID=America/New_York:20210504T120000
DTSTAMP:20210420T180618
CREATED:20210325T181945Z
LAST-MODIFIED:20210420T135215Z
UID:95505-1620126000-1620129600@www.siia.net
SUMMARY:Alternative Data Council: Web Data Collection and Interacting with Robots.TXT
DESCRIPTION:June 17 @ 10:00am - 11:00am US Eastern Time 		\n				\n				\n				\n					Who won and who lost in the market data industry last year?  This presentation and responsive panel will explore market data financial performance in 2020\, how the industry performed in the onset of the pandemic\, the evolving market data usage paradigm and what’s in store in 2021 and beyond.  Learn about the results of Burton-Taylor’s research and what industry participants and customers really think. Members: FREE | Non-Members: $200 \n				\n				\n				\n				\n			    \n                    \n                \n                                \nREGISTRATION COMING SOON                \n            \n            \n    \n\n    		\n				\n				\n				\n			\n            AGENDA10:00-10:05 a.m.  FISD Update Tracey Shumpert\, Vice President\, Membership and Programs\, FISD 10:05-10:30 a.m.  Presentation Robert Iati\, Managing Director\, Burton-Taylor International Consulting 10:30 a.m.-11:00 a.m.  Panel                               Moderator: Robert Iati\, Managing Director\, Burton-Taylor International Consulting Panelist: Barbara Dunbar\, Senior Manager\, Market Data\, Macquarie Group \n        		\n				\n				\n				\n			\n            SPEAKERS\n        		\n				\n				\n				\n					\n					\n		\n			\n		\n		\n\n							\n			\n\n\n	\n\n				\n		\n\n				\n						\n					\n				\n										Apr12								\n			\n		\n		\n			\n			\n\n					\n\n		\n						\n				Tracey Shumpert			\n\n				\n		\n		\n			Vice President\, FISD Membership & Programs\, SIIA \n		\n\n					\n					\n														\n\n									\n								\n													\n						Bio →\n					\n				\n						\n			\n		\n		\n\n	\n\n\n\n\n\n	\n\n				\n		\n\n				\n						\n					\n				\n										Apr14								\n			\n		\n		\n			\n			\n\n					\n\n		\n						\n				Robert Iati			\n\n				\n		\n		\n			Managing Director\, Burton-Taylor International Consulting \n		\n\n					\n					\n														\n\n									\n								\n													\n						Bio →\n					\n				\n						\n			\n		\n		\n\n	\n\n\n\n\n\n	\n\n				\n		\n\n				\n						\n					\n				\n										Apr14								\n			\n		\n		\n			\n			\n\n					\n\n		\n						\n				Barbara Dunbar			\n\n				\n		\n		\n			Senior Manager\, Market Data\, Macquarie Group \n		\n\n					\n					\n														\n\n									\n								\n													\n						Bio →\n					\n				\n						\n			\n		\n		\n\n	\n\n\n				\n						\n		\n\n						\n		\n					\n				\n				\n						\n					\n		\n				\n			\n							\n						\n				\n			Global Sponsors		\n				\n				\n				\n					\n											\n															\n											\n				\n				\n				\n				\n					\n											\n															\n											\n				\n				\n				\n				\n					\n											\n															\n											\n				\n				\n				\n				\n					\n											\n															\n											\n				\n				\n				\n				\n			Sponsors & Partners
URL:https://www.siia.net/event/alt-data-council-web-data-collection-interacting-with-robots-txt/
CATEGORIES:FISD
END:VEVENT
BEGIN:VEVENT
DTSTART;TZID=America/New_York:20210429T130000
DTEND;TZID=America/New_York:20210429T140000
DTSTAMP:20210420T180618
CREATED:20210331T144949Z
LAST-MODIFIED:20210416T065654Z
UID:96029-1619701200-1619704800@www.siia.net
SUMMARY:The New Content Metrics - How Publishers Are Measuring Engagement and Using That Data to Grow
DESCRIPTION:June 17 @ 10:00am - 11:00am US Eastern Time 		\n				\n				\n				\n					Who won and who lost in the market data industry last year?  This presentation and responsive panel will explore market data financial performance in 2020\, how the industry performed in the onset of the pandemic\, the evolving market data usage paradigm and what’s in store in 2021 and beyond.  Learn about the results of Burton-Taylor’s research and what industry participants and customers really think. Members: FREE | Non-Members: $200 \n				\n				\n				\n				\n			    \n                    \n                \n                                \nREGISTRATION COMING SOON                \n            \n            \n    \n\n    		\n				\n				\n				\n			\n            AGENDA10:00-10:05 a.m.  FISD Update Tracey Shumpert\, Vice President\, Membership and Programs\, FISD 10:05-10:30 a.m.  Presentation Robert Iati\, Managing Director\, Burton-Taylor International Consulting 10:30 a.m.-11:00 a.m.  Panel                               Moderator: Robert Iati\, Managing Director\, Burton-Taylor International Consulting Panelist: Barbara Dunbar\, Senior Manager\, Market Data\, Macquarie Group \n        		\n				\n				\n				\n			\n            SPEAKERS\n        		\n				\n				\n				\n					\n					\n		\n			\n		\n		\n\n							\n			\n\n\n	\n\n				\n		\n\n				\n						\n					\n				\n										Apr12								\n			\n		\n		\n			\n			\n\n					\n\n		\n						\n				Tracey Shumpert			\n\n				\n		\n		\n			Vice President\, FISD Membership & Programs\, SIIA \n		\n\n					\n					\n														\n\n									\n								\n													\n						Bio →\n					\n				\n						\n			\n		\n		\n\n	\n\n\n\n\n\n	\n\n				\n		\n\n				\n						\n					\n				\n										Apr14								\n			\n		\n		\n			\n			\n\n					\n\n		\n						\n				Robert Iati			\n\n				\n		\n		\n			Managing Director\, Burton-Taylor International Consulting \n		\n\n					\n					\n														\n\n									\n								\n													\n						Bio →\n					\n				\n						\n			\n		\n		\n\n	\n\n\n\n\n\n	\n\n				\n		\n\n				\n						\n					\n				\n										Apr14								\n			\n		\n		\n			\n			\n\n					\n\n		\n						\n				Barbara Dunbar			\n\n				\n		\n		\n			Senior Manager\, Market Data\, Macquarie Group \n		\n\n					\n					\n														\n\n									\n								\n													\n						Bio →\n					\n				\n						\n			\n		\n		\n\n	\n\n\n				\n						\n		\n\n						\n		\n					\n				\n				\n						\n					\n		\n				\n			\n							\n						\n				\n			Global Sponsors		\n				\n				\n				\n					\n											\n															\n											\n				\n				\n				\n				\n					\n											\n															\n											\n				\n				\n				\n				\n					\n											\n															\n											\n				\n				\n				\n				\n					\n											\n															\n											\n				\n				\n				\n				\n			Sponsors & Partners
URL:https://www.siia.net/event/the-new-content-metrics-how-publishers-are-measuring-engagement-and-using-that-data-to-grow/
CATEGORIES:AM&P network
END:VEVENT
BEGIN:VEVENT
DTSTART;TZID=America/New_York:20210428T140000
DTEND;TZID=America/New_York:20210428T150000
DTSTAMP:20210420T180618
CREATED:20210324T161547Z
LAST-MODIFIED:20210416T065729Z
UID:95241-1619618400-1619622000@www.siia.net
SUMMARY:Creating a Culture of Innovation
DESCRIPTION:June 17 @ 10:00am - 11:00am US Eastern Time 		\n				\n				\n				\n					Who won and who lost in the market data industry last year?  This presentation and responsive panel will explore market data financial performance in 2020\, how the industry performed in the onset of the pandemic\, the evolving market data usage paradigm and what’s in store in 2021 and beyond.  Learn about the results of Burton-Taylor’s research and what industry participants and customers really think. Members: FREE | Non-Members: $200 \n				\n				\n				\n				\n			    \n                    \n                \n                                \nREGISTRATION COMING SOON                \n            \n            \n    \n\n    		\n				\n				\n				\n			\n            AGENDA10:00-10:05 a.m.  FISD Update Tracey Shumpert\, Vice President\, Membership and Programs\, FISD 10:05-10:30 a.m.  Presentation Robert Iati\, Managing Director\, Burton-Taylor International Consulting 10:30 a.m.-11:00 a.m.  Panel                               Moderator: Robert Iati\, Managing Director\, Burton-Taylor International Consulting Panelist: Barbara Dunbar\, Senior Manager\, Market Data\, Macquarie Group \n        		\n				\n				\n				\n			\n            SPEAKERS\n        		\n				\n				\n				\n					\n					\n		\n			\n		\n		\n\n							\n			\n\n\n	\n\n				\n		\n\n				\n						\n					\n				\n										Apr12								\n			\n		\n		\n			\n			\n\n					\n\n		\n						\n				Tracey Shumpert			\n\n				\n		\n		\n			Vice President\, FISD Membership & Programs\, SIIA \n		\n\n					\n					\n														\n\n									\n								\n													\n						Bio →\n					\n				\n						\n			\n		\n		\n\n	\n\n\n\n\n\n	\n\n				\n		\n\n				\n						\n					\n				\n										Apr14								\n			\n		\n		\n			\n			\n\n					\n\n		\n						\n				Robert Iati			\n\n				\n		\n		\n			Managing Director\, Burton-Taylor International Consulting \n		\n\n					\n					\n														\n\n									\n								\n													\n						Bio →\n					\n				\n						\n			\n		\n		\n\n	\n\n\n\n\n\n	\n\n				\n		\n\n				\n						\n					\n				\n										Apr14								\n			\n		\n		\n			\n			\n\n					\n\n		\n						\n				Barbara Dunbar			\n\n				\n		\n		\n			Senior Manager\, Market Data\, Macquarie Group \n		\n\n					\n					\n														\n\n									\n								\n													\n						Bio →\n					\n				\n						\n			\n		\n		\n\n	\n\n\n				\n						\n		\n\n						\n		\n					\n				\n				\n						\n					\n		\n				\n			\n							\n						\n				\n			Global Sponsors		\n				\n				\n				\n					\n											\n															\n											\n				\n				\n				\n				\n					\n											\n															\n											\n				\n				\n				\n				\n					\n											\n															\n											\n				\n				\n				\n				\n					\n											\n															\n											\n				\n				\n				\n				\n			Sponsors & Partners
URL:https://www.siia.net/event/codie-aws-creating-culture-of-innovation/
CATEGORIES:AM&P network,CODiE
END:VEVENT
BEGIN:VEVENT
DTSTART;TZID=America/New_York:20210422T090000
DTEND;TZID=America/New_York:20210422T101000
DTSTAMP:20210420T180618
CREATED:20210324T171602Z
LAST-MODIFIED:20210419T155917Z
UID:95286-1619082000-1619086200@www.siia.net
SUMMARY:FISD Webinar: What does 'being reasonable' mean? In the context of Market Data from European Exchanges
DESCRIPTION:June 17 @ 10:00am - 11:00am US Eastern Time 		\n				\n				\n				\n					Who won and who lost in the market data industry last year?  This presentation and responsive panel will explore market data financial performance in 2020\, how the industry performed in the onset of the pandemic\, the evolving market data usage paradigm and what’s in store in 2021 and beyond.  Learn about the results of Burton-Taylor’s research and what industry participants and customers really think. Members: FREE | Non-Members: $200 \n				\n				\n				\n				\n			    \n                    \n                \n                                \nREGISTRATION COMING SOON                \n            \n            \n    \n\n    		\n				\n				\n				\n			\n            AGENDA10:00-10:05 a.m.  FISD Update Tracey Shumpert\, Vice President\, Membership and Programs\, FISD 10:05-10:30 a.m.  Presentation Robert Iati\, Managing Director\, Burton-Taylor International Consulting 10:30 a.m.-11:00 a.m.  Panel                               Moderator: Robert Iati\, Managing Director\, Burton-Taylor International Consulting Panelist: Barbara Dunbar\, Senior Manager\, Market Data\, Macquarie Group \n        		\n				\n				\n				\n			\n            SPEAKERS\n        		\n				\n				\n				\n					\n					\n		\n			\n		\n		\n\n							\n			\n\n\n	\n\n				\n		\n\n				\n						\n					\n				\n										Apr12								\n			\n		\n		\n			\n			\n\n					\n\n		\n						\n				Tracey Shumpert			\n\n				\n		\n		\n			Vice President\, FISD Membership & Programs\, SIIA \n		\n\n					\n					\n														\n\n									\n								\n													\n						Bio →\n					\n				\n						\n			\n		\n		\n\n	\n\n\n\n\n\n	\n\n				\n		\n\n				\n						\n					\n				\n										Apr14								\n			\n		\n		\n			\n			\n\n					\n\n		\n						\n				Robert Iati			\n\n				\n		\n		\n			Managing Director\, Burton-Taylor International Consulting \n		\n\n					\n					\n														\n\n									\n								\n													\n						Bio →\n					\n				\n						\n			\n		\n		\n\n	\n\n\n\n\n\n	\n\n				\n		\n\n				\n						\n					\n				\n										Apr14								\n			\n		\n		\n			\n			\n\n					\n\n		\n						\n				Barbara Dunbar			\n\n				\n		\n		\n			Senior Manager\, Market Data\, Macquarie Group \n		\n\n					\n					\n														\n\n									\n								\n													\n						Bio →\n					\n				\n						\n			\n		\n		\n\n	\n\n\n				\n						\n		\n\n						\n		\n					\n				\n				\n						\n					\n		\n				\n			\n							\n						\n				\n			Global Sponsors		\n				\n				\n				\n					\n											\n															\n											\n				\n				\n				\n				\n					\n											\n															\n											\n				\n				\n				\n				\n					\n											\n															\n											\n				\n				\n				\n				\n					\n											\n															\n											\n				\n				\n				\n				\n			Sponsors & Partners
URL:https://www.siia.net/event/fisd-webinar-what-does-being-reasonable-mean-in-the-context-of-market-data-from-european-exchanges/
CATEGORIES:FISD
END:VEVENT
BEGIN:VEVENT
DTSTART;TZID=America/New_York:20210421T220000
DTEND;TZID=America/New_York:20210421T220000
DTSTAMP:20210420T180619
CREATED:20210325T065758Z
LAST-MODIFIED:20210419T193943Z
UID:95381-1619042400-1619042400@www.siia.net
SUMMARY:FISD Webinar: The Asia/Pacific Greater Bay Area; The Next Market Catalyst
DESCRIPTION:June 17 @ 10:00am - 11:00am US Eastern Time 		\n				\n				\n				\n					Who won and who lost in the market data industry last year?  This presentation and responsive panel will explore market data financial performance in 2020\, how the industry performed in the onset of the pandemic\, the evolving market data usage paradigm and what’s in store in 2021 and beyond.  Learn about the results of Burton-Taylor’s research and what industry participants and customers really think. Members: FREE | Non-Members: $200 \n				\n				\n				\n				\n			    \n                    \n                \n                                \nREGISTRATION COMING SOON                \n            \n            \n    \n\n    		\n				\n				\n				\n			\n            AGENDA10:00-10:05 a.m.  FISD Update Tracey Shumpert\, Vice President\, Membership and Programs\, FISD 10:05-10:30 a.m.  Presentation Robert Iati\, Managing Director\, Burton-Taylor International Consulting 10:30 a.m.-11:00 a.m.  Panel                               Moderator: Robert Iati\, Managing Director\, Burton-Taylor International Consulting Panelist: Barbara Dunbar\, Senior Manager\, Market Data\, Macquarie Group \n        		\n				\n				\n				\n			\n            SPEAKERS\n        		\n				\n				\n				\n					\n					\n		\n			\n		\n		\n\n							\n			\n\n\n	\n\n				\n		\n\n				\n						\n					\n				\n										Apr12								\n			\n		\n		\n			\n			\n\n					\n\n		\n						\n				Tracey Shumpert			\n\n				\n		\n		\n			Vice President\, FISD Membership & Programs\, SIIA \n		\n\n					\n					\n														\n\n									\n								\n													\n						Bio →\n					\n				\n						\n			\n		\n		\n\n	\n\n\n\n\n\n	\n\n				\n		\n\n				\n						\n					\n				\n										Apr14								\n			\n		\n		\n			\n			\n\n					\n\n		\n						\n				Robert Iati			\n\n				\n		\n		\n			Managing Director\, Burton-Taylor International Consulting \n		\n\n					\n					\n														\n\n									\n								\n													\n						Bio →\n					\n				\n						\n			\n		\n		\n\n	\n\n\n\n\n\n	\n\n				\n		\n\n				\n						\n					\n				\n										Apr14								\n			\n		\n		\n			\n			\n\n					\n\n		\n						\n				Barbara Dunbar			\n\n				\n		\n		\n			Senior Manager\, Market Data\, Macquarie Group \n		\n\n					\n					\n														\n\n									\n								\n													\n						Bio →\n					\n				\n						\n			\n		\n		\n\n	\n\n\n				\n						\n		\n\n						\n		\n					\n				\n				\n						\n					\n		\n				\n			\n							\n						\n				\n			Global Sponsors		\n				\n				\n				\n					\n											\n															\n											\n				\n				\n				\n				\n					\n											\n															\n											\n				\n				\n				\n				\n					\n											\n															\n											\n				\n				\n				\n				\n					\n											\n															\n											\n				\n				\n				\n				\n			Sponsors & Partners
URL:https://www.siia.net/event/fisd-webinar-the-asia-pacific-greater-bay-area-challenges-to-greatness/
CATEGORIES:FISD
END:VEVENT
BEGIN:VEVENT
DTSTART;TZID=America/New_York:20210421T130000
DTEND;TZID=America/New_York:20210421T140000
DTSTAMP:20210420T180619
CREATED:20210324T170543Z
LAST-MODIFIED:20210420T175338Z
UID:95205-1619010000-1619013600@www.siia.net
SUMMARY:CEO Council: Events Return - Lessons From One of the First Live Trade Shows of 2021
DESCRIPTION:June 17 @ 10:00am - 11:00am US Eastern Time 		\n				\n				\n				\n					Who won and who lost in the market data industry last year?  This presentation and responsive panel will explore market data financial performance in 2020\, how the industry performed in the onset of the pandemic\, the evolving market data usage paradigm and what’s in store in 2021 and beyond.  Learn about the results of Burton-Taylor’s research and what industry participants and customers really think. Members: FREE | Non-Members: $200 \n				\n				\n				\n				\n			    \n                    \n                \n                                \nREGISTRATION COMING SOON                \n            \n            \n    \n\n    		\n				\n				\n				\n			\n            AGENDA10:00-10:05 a.m.  FISD Update Tracey Shumpert\, Vice President\, Membership and Programs\, FISD 10:05-10:30 a.m.  Presentation Robert Iati\, Managing Director\, Burton-Taylor International Consulting 10:30 a.m.-11:00 a.m.  Panel                               Moderator: Robert Iati\, Managing Director\, Burton-Taylor International Consulting Panelist: Barbara Dunbar\, Senior Manager\, Market Data\, Macquarie Group \n        		\n				\n				\n				\n			\n            SPEAKERS\n        		\n				\n				\n				\n					\n					\n		\n			\n		\n		\n\n							\n			\n\n\n	\n\n				\n		\n\n				\n						\n					\n				\n										Apr12								\n			\n		\n		\n			\n			\n\n					\n\n		\n						\n				Tracey Shumpert			\n\n				\n		\n		\n			Vice President\, FISD Membership & Programs\, SIIA \n		\n\n					\n					\n														\n\n									\n								\n													\n						Bio →\n					\n				\n						\n			\n		\n		\n\n	\n\n\n\n\n\n	\n\n				\n		\n\n				\n						\n					\n				\n										Apr14								\n			\n		\n		\n			\n			\n\n					\n\n		\n						\n				Robert Iati			\n\n				\n		\n		\n			Managing Director\, Burton-Taylor International Consulting \n		\n\n					\n					\n														\n\n									\n								\n													\n						Bio →\n					\n				\n						\n			\n		\n		\n\n	\n\n\n\n\n\n	\n\n				\n		\n\n				\n						\n					\n				\n										Apr14								\n			\n		\n		\n			\n			\n\n					\n\n		\n						\n				Barbara Dunbar			\n\n				\n		\n		\n			Senior Manager\, Market Data\, Macquarie Group \n		\n\n					\n					\n														\n\n									\n								\n													\n						Bio →\n					\n				\n						\n			\n		\n		\n\n	\n\n\n				\n						\n		\n\n						\n		\n					\n				\n				\n						\n					\n		\n				\n			\n							\n						\n				\n			Global Sponsors		\n				\n				\n				\n					\n											\n															\n											\n				\n				\n				\n				\n					\n											\n															\n											\n				\n				\n				\n				\n					\n											\n															\n											\n				\n				\n				\n				\n					\n											\n															\n											\n				\n				\n				\n				\n			Sponsors & Partners
URL:https://www.siia.net/event/ceo-council-events-return-lessons-from-one-of-the-first-live-trade-shows-of-2021/
CATEGORIES:AM&P network
END:VEVENT
END:VCALENDAR